{"text_format":"1","workbook":"xlsx","n_sheets":5,"sheets":["Calculation Sheet","LUT \"TSD vs PD start-up\"","Res EIA Tables","Cap Tables","Nretry"],"not_rendered":{"charts":3,"images":1,"macros":0,"external_links":0,"defined_names":41,"comments":1,"pivot_tables":0},"unopened":[],"bounds":{"document_bytes":16777216,"sheet_cells":100000,"rows_first":2000,"rows_last":500,"rows_between":2000,"halvings":0,"cell_chars":16384,"cell_head_chars":4096},"cells_cut":0,"cells_raw":0,"read":"whole","date_system":"1900"}

{"sheet":"Calculation Sheet","index":0,"n_rows":133,"n_cols":28,"rows_kept":133,"cut":false,"hidden":false,"merged":[[99,8,100,8],[99,9,100,9],[101,6,102,7],[101,8,102,8],[101,9,102,9],[95,6,95,7],[78,1,78,4],[83,1,83,4],[0,1,0,2],[40,1,40,2],[73,1,73,4],[67,1,67,4],[52,1,52,2],[46,1,46,4],[71,3,71,9],[50,1,50,2],[22,1,22,5],[28,1,28,2],[106,6,106,7],[104,6,104,7],[105,6,105,7],[96,6,96,7],[97,6,97,7],[98,6,98,7],[99,6,100,7],[103,6,103,7]]}
[null,"TPS25983 Design Calculation Tool",null,null,null,null,null,null,null,null,null,null,null,null,null,null,null,null,null,null,null,null,null,null,null,null,"Yes",4]
[null,"Constants Cells","Input/SelectCells","Calculation Cells",null,null,"Recommended",null,null,null,null,null,null,null,null,null,null,null,null,null,null,null,null,null,null,null,"No",16]
[null,"Error Cells, Must be Fixed","Calculated, but can be over-ridden by user",null,null,null,"Value",null,null,null,null,null,null,null,null,null,null,null,null,null,null,null,null,null,null,null,"Auto-Retry",64]
[null,"Parameter","Description","Value "," Units","Tolerance",null,null,null,null,null,null,null,null,null,null,null,null,null,null,null,null,null,null,null,null,"Latch-off",256]
[null,"VIN (nom)","Nominal operating input voltage",15,"V",null,null,null,null,null,null,null,null,null,null,null,null,null,null,null,null,null,null,null,null,null,null,"Infinite"]
[null,"VIN (max)","Maximum Operating input voltage (magnitude)",25,"V",null,{"$f":"IF(RIGHT(#REF!,2)=\"7L\",24,(IF(RIGHT(#REF!,2)=\"7O\",24,#REF!)))","v":{"$error":"#REF!"}}]
[null,"OVLOset","Overvoltage Threshold (VIN Rising)",26,"V"]
[null,"UVLOset","Undervoltage Threshold (VIN Rising)",4,"V"]
[null,"VUVP","Internal IN Undervoltage Protection Threshold (VIN Rising)",2.5299999999999998,"V",2.7E-2]
[null,"Cout","Load Capacitance",62,"uF",0.1]
[null,"Rlstart","Load at start-up (assumed to be resistive), Refer to Section 9.2.2.5.2 in Datasheet",24,"Ohm",null,{"$f":"Vcc_nom/Imax","v":0.83333333333333337}]
[null,"Imax","Maximum continuous load current (magnitude)",18,"A"]
[null,"Ilimit","Set current Limit 20% (typical) higher than maximum continuous load current",{"$f":"Imax*1.2","v":21.599999999999998},"A"]
[null,"TA(max)","Max Ambient Temperature ",70,"degC"]
[null,null,"Do you need to be immue to line transient due to adjacent card “hot-swap events”","No"]
[null,"tITIMER","Enter the time interval to support load transient currents",2000,"us"]
[null,null,"Fault Response","Auto-Retry"]
[null,"tRETRY_DLY","Time delay between retries",100,"ms"]
[null,"NRETRY","Number of retries",4]
[null,"Rec_VIMONMax","Recommended maximum IMON voltage",{"$f":"IF(Vcc_nom<5, IF(Vcc_nom<3.3, 1, 1.8), 3.3)","v":3.3},"V"]
[null,"VIMON-Max","Enter current monitor (IMON) full-scale voltage range",2,"V"]
[]
[null,"UVLO, OVLO set point calculations ",null,null,null,null,null,null,null,null,null,{"$f":"IF(D24>=100,D24,IF(D24>=10,D24*10,D24*100))","v":400},null,null,null,{"$f":"(OVref*D26)/(D24-OVref)","v":213.85714285714286}]
[null,"UVLO Set Point","Desired Undervoltage Threshold (VIN Rising)",{"$f":"UVset","v":4},null,null,null,null,null,{"$f":"D33","v":3.6532694050752319},"Power Fail \n(VIN Falling)",{"$f":"IF(D25>=100,D25,IF(D25>=10,D25*10,D25*100))","v":260}]
[null,"OVLO Set Point","Desired Over Voltage Lockout Set Point",{"$f":"D7","v":26},null,null,null,null,null,{"$f":"D32","v":3.9853848055366159},"Release UVLO (VIN Rising)"]
[null,"R1: Pullup at EN/OVLO Pin"," Value > 350K recommended",499,"kOhm",0.01,null,null,null,{"$f":"D34","v":25.979200093999069},"OV Cut-off\n(VIN Rising)",{"$f":"INDEX('Res EIA Tables'!E$5:E$197,2+MATCH(L24,'Res EIA Tables'!E$5:E$197))","v":261}]
[null,"R2_cal","Calculated value of Resistor at EN/OVLO pin",{"$f":"P23-D28","v":180.95604395604397},"kOhm"]
[null,"R3_cal","Calculated value of Resistor at EN/OVLO pin",{"$f":"(D26+P23)*OVref/D25","v":32.901098901098905},"kOhm"]
[null,"SELECT THE VALUE OF RESISTORS AS CLOSEST AVAILABLE VALUE OF R2 & R3"]
[null,"R2","Select the closest possible value as R2_cal",{"$f":"G30","v":181.99999999999997},"kOhm",0.01,{"$f":"L42/L41*D27","v":181.99999999999997}]
[null,"R3","Select the closest possible value as R3_cal",{"$f":"G31","v":32.979272813487889},"kOhm",0.01,{"$f":"L44/L43*D28","v":32.979272813487889}]
[null,"UV_final_rising","Undervoltage Threshold (VIN Rising)",{"$f":"OVref*(D26+D30+D31)/(D30+D31)","v":3.9853848055366159},"V"]
[null,"UV_final_falling","Undervoltage Threshold (VIN Falling)",{"$f":"UVref*(D26+D30+D31)/(D30+D31)","v":3.6532694050752319},"V"]
[null,"OV_final_rising","Overvoltage Threshold (VIN Rising)",{"$f":"OVref*(D26+D30+D31)/(D31)","v":25.979200093999069},"V"]
[null,"OV_final_falling","Overvoltage Threshold (VIN Falling)",{"$f":"UVref*(D26+D30+D31)/(D31)","v":23.814266752832481},"V"]
[null,"I_R123","Current in R1, R2 and R3 Branch",{"$f":"D6*1000/(D26+D30+D31)","v":35.015022076881387},"uA"]
[]
[]
[]
[]
[null,"Calculations for Ilimit (resistor on ILIM Pin)",null,null,null,null,null,null,null,{"$f":"Icharge","v":4.5999999999999999E-2},"Inrush Charging \nCurrent",{"$f":"IF(D27>=10000,D27/100,IF(D27>=1000,D27/10,IF(D27>=100,D27,IF(D27>=10,D27*10,D27*100))))","v":180.95604395604397}]
[null,"RILIM_Cal","Calculated current limit resistor",{"$f":"1460/(Ilimit-0.11)","v":67.93857608189856},"Ohm",null,null,null,null,{"$f":"Ilimit_final","v":21.549060205580027},"Overload Curr\nLimit",{"$f":"INDEX('Res EIA Tables'!E$5:E$197,2+MATCH(L41,'Res EIA Tables'!E$5:E$197))","v":182}]
[null,"SELECT A ILIMIT RESISTOR WITH THE CLOSEST AVAILABLE VALUE OF Rilim_Cal",null,null,null,null,null,null,null,null,null,{"$f":"IF(D42>=10000,D42/100,IF(D42>=1000,D42/10,IF(D42>=100,D42,IF(D42>=10,D42*10,D42*100))))","v":679.38576081898555}]
[null,"RILIM","Select the closest available value of RILIM_cal",{"$f":"G44","v":68.100000000000009},"Ohm",0.01,{"$f":"L44*D42/L43","v":68.100000000000009},null,null,null,null,{"$f":"INDEX('Res EIA Tables'!E$5:E$197,2+MATCH(L43,'Res EIA Tables'!E$5:E$197))","v":681}]
[null,"Ilimit_final","Final current Limit Set Point",{"$f":"((1460/RILIM)+0.11)","v":21.549060205580027},"A",{"$f":"SQRT(((27.875*((1460/D44)+0.11)^-0.459)/100)^2+F44^2)","v":6.8834046688113243E-2},{"$f":"((1460/G44)+0.11)*(100-(27.875*((1460/G44)+0.11)^-0.459))/100","v":20.08148757085598},"A"]
[]
[null,"Calculations for CURRENT MONITOR",null,null,null,null,null,null,null,null,null,{"$f":"IF(G48>=100,G48,IF(G48>=10,G48*10,G48*100))","v":381.94021439347421}]
[null,"RIMON_max","Maximum allowed resistance at IMON pin",{"$f":"Vimon_max/(Ilimit_final*243*10^-6)","v":381.94021439347421},"Ohm",null,{"$f":"D48","v":381.94021439347421},null,null,null,null,{"$f":"IF(L47>1000,INDEX('Res EIA Tables'!E$5:E$197,MATCH(L47/10,'Res EIA Tables'!E$5:E$197))*10,INDEX('Res EIA Tables'!E$5:E$197,MATCH(L47,'Res EIA Tables'!E$5:E$197)))","v":374}]
[null,"RIMON_sel","Resistor value selected at IMON pin",{"$f":"G49","v":374},"Ohm",0.01,{"$f":"L48*G48/L47","v":374}]
[null,"VIMON_final","Maximum voltage at IMON for maximum load current",{"$f":"(Ilimit_final*RMON_sel*243*10^-6)","v":1.958421689603524},"V",{"$f":"SQRT(F129^2+F49^2)","v":3.1622776601683791E-2}]
[null,"The range of voltage output at IMON pin will be from 0V to VMON_imax",null,{"$f":"IF(D50>D21,\"VIMON is Outside limits of uC interface\", \"VIMON is Within Limits\")","v":"VIMON is Within Limits"}]
[]
[null,"Calculations for SoftStart control (external cap on dVdt pin)"]
[null,"Parameter","Description","Value "," Units","Tolerance"]
[null,"Tchg_fastest","When no external capacitor  is connected (max. slew rate)",{"$f":"Vcc_nom/7.35","v":2.0408163265306123},"ms",0.15]
[null,"Icharge_fastest","Charging current when charging at fastest possible rate\nIf this current is < Ilimit, no capacitor is required at dVdT pin",{"$f":"MIN(Cout*(Vcc_nom/D55)/1000, Ilimit_final)","v":0.45569999999999999},"A"]
[null,"Tchg_req","The charging time required",20,"ms"]
[null,"Icharge_req","Charging (inrush) current desired in the system",1,"A"]
[null,"Cext_dvdt_cal1","Calculated value of capacitor at dVdT pin for required Tcharge",{"$f":"IF(Tchg_req<Tchg_fastest,    0,  (4600*Tchg_req/Vcc_nom)/1000)","v":6.1333333333333329},"nF"]
[null,"Cext_dvdt_cal2","Calculated value of capacitor at dVdT pin for required Icharge",{"$f":"(4600*(Cout/1000)/Icharge_req)/1000","v":0.28520000000000001},"nF",null,{"$f":"MAX(Cdvdt_ext_cal1,Cext_dvdt_cal2)","v":6.1333333333333329}]
[null,"SELECT A CAPACITOR WITH THE CLOSEST POSSIBLE VALUE to max(Cext_dvdt_cal1, Cext_dvdt_cal2)"]
[null,"CdVdT_ext","The external capacitor connecetd across dVdT pin ",{"$f":"G62","v":6.2},"nF",0.1,{"$f":"IF(G60>1,    INDEX('Cap Tables'!B4:B75,1+MATCH(G60,'Cap Tables'!B4:B75)),     INDEX('Cap Tables'!A4:A75,1+MATCH(G60*10,'Cap Tables'!A4:A75))/10)","v":6.2}]
[null,"Icharge","Charging Current as per dVdT setting",{"$f":"(Cout/1000)*(4600/(Cdvdt_ext*1000))","v":4.5999999999999999E-2},"A",{"$f":"SQRT(F55^2+F62^2)","v":0.18027756377319948}]
[null,"Does Device Enter Current Limit during start-up?",null,{"$f":"((Icharge+Vcc_nom/Rlstart) >= Ilimit_final)","v":false},null,null,{"$f":"Cout*0.001*Rlstart*(Ilimit_final/Icharge -1+LN(Icharge/(Ilimit_final-Vcc_nom/Rlstart)))","v":686.47067165246801}]
[null,"Tchg_dVdT","Charging time set",{"$f":"IF(D64, G64, ((Cdvdt_ext*1000*Vcc_nom)/(4600)))","v":20.217391304347824},"ms",{"$f":"SQRT(F62^2+F55^2)","v":0.18027756377319948}]
[null,"Pd_Cout_startup","Power dissipation due to load cap at start-up",{"$f":"0.5*Vcc_nom*Icharge","v":0.34499999999999997},"W"]
[]
[null,"Total Power dissipation at Start-up"]
[null,"Pd_Rlstart","Power dissipation due to load resistance at start-up",{"$f":"(1/6)*(Vcc_nom^2)/Rlstart","v":1.5625},"W"]
[null,"Pd_startup","Total power dissipation at start-up",{"$f":"D66+D69","v":1.9075},"W",null,null,null,null,null,null,{"$f":"(D65/1679.1)^(-1/1.946)","v":9.6896030074412796},{"$f":"INDEX('LUT \"TSD vs PD start-up\"'!C2:D21,MATCH(Tchg_dvdt,'LUT \"TSD vs PD start-up\"'!D2:D21,-1),1)","v":9.2799999999999994}]
[null,null,"Max power dissipation allowed for glitch-free startup for the programmed startup time (20% margin)",{"$f":"G71*0.8","v":7.7516824059530238},"W",0.2,{"$f":"IF(Vcc_nom >16.5, L71,L70)","v":9.6896030074412796},null,null,null,null,{"$f":"(D65/467.3)^(-1/1.661)","v":6.6239063963765155},{"$f":"INDEX('LUT \"TSD vs PD start-up\"'!A2:B24,MATCH(Tchg_dvdt,'LUT \"TSD vs PD start-up\"'!B2:B24,-1),1)","v":6.69}]
[null,null,"Will the system have glitch-free startup?\nLook at Thermal Shutdown Limit Plot Tab",{"$f":"IF(D70<(D71),\"YES\",\"NO, Increase Rlstart and/or Tchg_req; and/or Reduce Cout\")","v":"YES"}]
[]
[null,"Steady state Voltage drop & Power dissipation"]
[null,"Parameter","Description","Value "," Units","Tolerance"]
[null,"Vdrop","Maximum voltage drop across device @ 25 degC",{"$f":"Imax*Rdson_25deg","v":57.6},"mV"]
[null,"Pdiss_Imax","Steady state power dissipation with Max current @ 25degC ",{"$f":"Imax^2*Rdson_25deg","v":1036.8},"mW"]
[]
[null,"Calculations for Transient Overcurrent Blanking Interval"]
[null,"Citimer_cal","Calculated value of capacitor at ITIMER pin",{"$f":"tITIMER/470","v":4.2553191489361701},"nF",null,{"$f":"D80","v":4.2553191489361701}]
[null,"Citimer_sel","Capacitor value selected at ITIMER pin",{"$f":"G81","v":4.3},"nF",0.1,{"$f":"INDEX('Cap Tables'!B4:B75,1+MATCH(G80,'Cap Tables'!B4:B75))","v":4.3}]
[null,"tITIMER_final","Time duration for which load transients between Ilimit and 2.1xIlimit are allowed",{"$f":"D81*470","v":2021},"us",null,{"$f":"(D133/53000)/1000*10^9","v":517.18198682560512},"nF"]
[]
[null,"Setting the Auto-Retry Delay and Number of Retries"]
[null,"CRETRY_DLY_cal","Calculated value of capacitor at RETRY_DLY pin",{"$f":"((tRETRY_DLY*1000/46.83)-4)/1000","v":2.1313833013025838},"nF",null,{"$f":"D85","v":2.1313833013025838}]
[null,"CRETRY_DLY_sel","Capacitor value selected at RETRY_DLY pin",{"$f":"G86","v":2.2000000000000002},"nF",0.1,{"$f":"IF(G85>1,    INDEX('Cap Tables'!B4:B75,1+MATCH(G85,'Cap Tables'!B4:B75)),     INDEX('Cap Tables'!A4:A75,1+MATCH(G85*10,'Cap Tables'!A4:A75))/10)","v":2.2000000000000002}]
[null,"tRETRY_DLY_final","Time delay between retries",{"$f":"((D86*1000+4)*46.83)/1000","v":103.21332},"ms"]
[null,"CNRETRY_cal","Calculated value of capacitor at NRETRY pin",{"$f":"IF(NRETRY=\"Infinite\", \"Short to Gnd\", NRETRY*(D86*1000+4)/4000)","v":2.2040000000000002},"nF",null,{"$f":"IF(D88 =\"Short to Gnd\", \"Short to Gnd\", 0.9*D88)","v":1.9836000000000003}]
[null,"CNRETRY_sel","Capacitor value selected at NRETRY pin",{"$f":"G89","v":1.8},"nF",0.1,{"$f":"IF(D88 =\"Short to Gnd\", \"Short to Gnd\", INDEX('Cap Tables'!B4:B75,MATCH(G88,'Cap Tables'!B4:B75)))","v":1.8},{"$f":"4*D89*1000/(D86*1000+4)","v":3.266787658802178}]
[null,"NRETRY_final","Number of retries",{"$f":"H90","v":4},null,null,{"$f":"IF(D89=\"Short to Gnd\", \"Infinite\", 1024*((Ncalc/1024)-TRUNC(Ncalc/1024)))","v":3.266787658802178},{"$f":"Nretry!F5","v":4}]
[]
[]
[]
[]
[null,"Design Summary"]
[null,null,null,"R1 =",{"$f":"RpUVLO","v":4},"kOhm","Parameter",null,"Typical","Units"]
[null,null,null,"R2 =",{"$f":"D30","v":181.99999999999997},"kOhm","Current limit",null,{"$f":"Ilimit_final","v":21.549060205580027},"A"]
[null,null,null,"R3 =",{"$f":"D31","v":32.979272813487889},"kOhm","Upper UVLO Threshold",null,{"$f":"D32","v":3.9853848055366159},"V"]
[null,null,null,"RG =",2,"Ohm","Lower UVLO Threshold",null,{"$f":"D33","v":3.6532694050752319},"V"]
[null,null,null,"RILIM =",{"$f":"RILIM","v":68.100000000000009},"Ohm","Output voltage ramp time, TdVdt",null,{"$f":"Tchg_dvdt","v":20.217391304347824},"ms"]
[null,null,null,"RIMON =",{"$f":"RMON_sel","v":374},"Ohm"]
[null,null,null,"RPG =",10,"kOhm","Transient overcurrent blanking interval (tITIMER)",null,{"$f":"D82","v":2021},"us"]
[null,null,null,"CdVdt =",{"$f":"Cdvdt_ext","v":6.2},"nF"]
[null,null,null,"CITIMER =",{"$f":"D81","v":4.3},"nF","Time delay between retries",null,{"$f":"IF(D17=\"Latch-off\", \"Latch-off\", D87)","v":103.21332},"ms"]
[null,null,null,"CRETRY_DLY =",{"$f":"IF(D17=\"Latch-off\", \"Short to Gnd\", D86)","v":2.2000000000000002},"nF","Number of retries",null,{"$f":"IF(D17=\"Latch-off\", 0, D90)","v":4}]
[null,null,null,"CNRETRY =",{"$f":"D89","v":1.8},"nF"]
[null,null,null,null,null,null,"Overvoltage lockout",null,{"$f":"D34","v":25.979200093999069},"V"]
[null,"Notes:","1. Although not mandatory, CIN provides transient suppression at the VIN pin","CIN =","0.01uF","uF"]
[null,null,"2. TVS clamp diode D1 from VIN to GND is recommented to clamp the voltage overshoot during device turn-off, e.g. during circuit breaker ","COUT =","Optional"]
[null,null,"3. Schottky diode D2 from VOUT to GND is mandatory to absorb negative spikes","D1 =","SMCJxx"]
[null,null,null,"D2 =","B530C-13-F"]
[]
[null,"Parameters internal to Device"]
[null,"Internal FET Parameters"]
[null,"Parameter","Description","Value "," Units","Tolerance"]
[null,"VDSS (max)","FET drain-source voltage rating (maximum)",30,"V"]
[null,"ID(max)","FET drain-source current rating (maximum)",18,"A"]
[null,"Rds(on)","FET maximum Rds(on) at 25degC",3.2,"mOhm"]
[null,"Rds(on)_max","FET maximum Rds(on) at 125degC",4.5,"mOhm"]
[null,"Thermal Parameters"]
[null,"Tj(max)","Device maximum junction temperature",150,"C"]
[null,"TA(max)","Maximum ambient temperature of the application",125,"C"]
[null,"RJC(top)","Junction to case (top) Thermal Resistance",36.700000000000003,"C/W"]
[null,"RJA","Junction to ambient thermal resistance",34.6,"C/W"]
[null,"RJC(bot)","Junction-to-case(bottom) thermal resistance ",1.6,"C/W"]
[null,"Internal References "]
[null,"Uvref_rise","Internal Undervoltage reference (Rising)",1.2,"V",2.5000000000000001E-2]
[null,"Uvref_fall","Internal Undervoltage reference (Falling)",1.1000000000000001,"V",2.7E-2]
[null,"GainIMON","Current monitor gain",243,"uA/A",0.03]
[null,"Idvdt","dVdt Pin Charging Current",4.76,"uA",0.03]
[null,"Delay "]
[null,"tD,ON","Device turn ON delay",{"$f":"(0.0663*Cdvdt_ext/3.3)*Vcc_nom+1.3153","v":3.1837545454545451},"ms"]
[null,"tGHI","Time taken to reach steady state",{"$f":"D132+(Cdvdt_ext*(Vcc_nom+3.6)/D130)","v":27.410645301757068},"ms"]

{"sheet":"LUT \"TSD vs PD start-up\"","index":1,"n_rows":24,"n_cols":4,"rows_kept":24,"cut":false,"hidden":true,"merged":[]}
["PD (20V)","tTSD","Pd (12V)(W)","tsd (ms)"]
[5.65,29.4,5.95,52.4]
[6.06,25.8,6.48,43.97]
[6.69,21.9,7.34,34.799999999999997]
[7.2,18.7,8.0190000000000001,29.16]
[7.984,15.8,8.5790000000000006,26]
[8.923,12.983000000000001,9.2799999999999994,22.77]
[9.5,11.64,10,20.010000000000002]
[10.16,10.45,10.64,17.760000000000002]
[12.9,6.76,11.63,15.5]
[16.579999999999998,4.28,28.8,2.1339999999999999]
[20.170000000000002,2.85,30.3,1.87]
[23.5,2.1749999999999998,31.67,1.67]
[28,1.22,35.5,1.44]
[30.8,1.08,36.200000000000003,1.42]
[34.22,0.98,36.65,1.329]
[40.5,0.80600000000000005,42.92,1.147]
[42.7,0.79600000000000004,44,1.1000000000000001]
[47.9,0.73,45.7,1.06]
[52.6,0.68500000000000005,52.24,0.94099999999999995]
[57.8,0.65200000000000002,54.54,0.9]
[59.57,0.65]
[71,0.55200000000000005]
[72.180000000000007,0.55100000000000005]

{"sheet":"Res EIA Tables","index":2,"n_rows":197,"n_cols":7,"rows_kept":197,"cut":false,"hidden":true,"merged":[[12,2,19,2],[12,3,15,3],[12,4,13,4],[14,4,15,4],[16,3,19,3],[16,4,17,4],[18,4,19,4],[0,0,0,5],[4,0,35,0],[4,1,19,1],[4,2,11,2],[4,3,7,3],[4,4,5,4],[6,4,7,4],[8,3,11,3],[8,4,9,4],[10,4,11,4],[28,4,29,4],[30,4,31,4],[32,3,35,3],[32,4,33,4],[34,4,35,4],[36,0,67,0],[36,1,51,1],[36,2,43,2],[36,3,39,3],[36,4,37,4],[20,1,35,1],[20,2,27,2],[20,3,23,3],[20,4,21,4],[22,4,23,4],[24,3,27,3],[24,4,25,4],[26,4,27,4],[28,2,35,2],[28,3,31,3],[38,4,39,4],[40,3,43,3],[40,4,41,4],[42,4,43,4],[44,2,51,2],[44,3,47,3],[44,4,45,4],[46,4,47,4],[48,3,51,3],[48,4,49,4],[60,3,63,3],[60,4,61,4],[62,4,63,4],[64,3,67,3],[64,4,65,4],[66,4,67,4],[50,4,51,4],[52,1,67,1],[52,2,59,2],[52,3,55,3],[52,4,53,4],[54,4,55,4],[56,3,59,3],[56,4,57,4],[58,4,59,4],[60,2,67,2],[76,3,79,3],[76,4,77,4],[78,4,79,4],[80,3,83,3],[80,4,81,4],[82,4,83,4],[68,0,99,0],[68,1,83,1],[68,2,75,2],[68,3,71,3],[68,4,69,4],[70,4,71,4],[72,3,75,3],[72,4,73,4],[74,4,75,4],[76,2,83,2],[92,4,93,4],[94,4,95,4],[96,3,99,3],[96,4,97,4],[98,4,99,4],[100,0,131,0],[100,1,115,1],[100,2,107,2],[100,3,103,3],[100,4,101,4],[84,1,99,1],[84,2,91,2],[84,3,87,3],[84,4,85,4],[86,4,87,4],[88,3,91,3],[88,4,89,4],[90,4,91,4],[92,2,99,2],[92,3,95,3],[102,4,103,4],[104,3,107,3],[104,4,105,4],[106,4,107,4],[108,2,115,2],[108,3,111,3],[108,4,109,4],[110,4,111,4],[112,3,115,3],[112,4,113,4],[124,3,127,3],[124,4,125,4],[126,4,127,4],[128,3,131,3],[128,4,129,4],[130,4,131,4],[114,4,115,4],[116,1,131,1],[116,2,123,2],[116,3,119,3],[116,4,117,4],[118,4,119,4],[120,3,123,3],[120,4,121,4],[122,4,123,4],[124,2,131,2],[140,3,143,3],[140,4,141,4],[142,4,143,4],[144,3,147,3],[144,4,145,4],[146,4,147,4],[132,0,163,0],[132,1,147,1],[132,2,139,2],[132,3,135,3],[132,4,133,4],[134,4,135,4],[136,3,139,3],[136,4,137,4],[138,4,139,4],[140,2,147,2],[156,4,157,4],[158,4,159,4],[160,3,163,3],[160,4,161,4],[162,4,163,4],[164,0,195,0],[164,1,179,1],[164,2,171,2],[164,3,167,3],[164,4,165,4],[148,1,163,1],[148,2,155,2],[148,3,151,3],[148,4,149,4],[150,4,151,4],[152,3,155,3],[152,4,153,4],[154,4,155,4],[156,2,163,2],[156,3,159,3],[166,4,167,4],[168,3,171,3],[168,4,169,4],[170,4,171,4],[172,2,179,2],[172,3,175,3],[172,4,173,4],[174,4,175,4],[176,3,179,3],[176,4,177,4],[188,3,191,3],[188,4,189,4],[190,4,191,4],[192,3,195,3],[192,4,193,4],[194,4,195,4],[178,4,179,4],[180,1,195,1],[180,2,187,2],[180,3,183,3],[180,4,181,4],[182,4,183,4],[184,3,187,3],[184,4,185,4],[186,4,187,4],[188,2,195,2]]}
["Standard EIA Decade Resistor Values"]
[]
[0.2,0.1,0.05,0.02,0.01,"0.5%, 0.25%, 0.1%"]
["E6","E12","E24","E48","E96","E192"]
[100,100,100,100,100,100]
[null,null,null,null,null,101]
[null,null,null,null,102,102]
[null,null,null,null,null,104]
[null,null,null,105,105,105]
[null,null,null,null,null,106]
[null,null,null,null,107,107]
[null,null,null,null,null,109]
[null,null,110,110,110,110]
[null,null,null,null,null,111]
[null,null,null,null,113,113]
[null,null,null,null,null,114]
[null,null,null,115,115,115]
[null,null,null,null,null,117]
[null,null,null,null,118,118]
[null,null,null,null,null,120]
[null,120,120,121,121,121]
[null,null,null,null,null,123]
[null,null,null,null,124,124]
[null,null,null,null,null,126]
[null,null,null,127,127,127]
[null,null,null,null,null,129]
[null,null,null,null,130,130]
[null,null,null,null,null,132]
[null,null,130,133,133,133]
[null,null,null,null,null,135]
[null,null,null,null,137,137]
[null,null,null,null,null,138]
[null,null,null,140,140,140]
[null,null,null,null,null,142]
[null,null,null,null,143,143]
[null,null,null,null,null,145]
[150,150,150,147,147,147]
[null,null,null,null,null,149]
[null,null,null,null,150,150]
[null,null,null,null,null,152]
[null,null,null,154,154,154]
[null,null,null,null,null,156]
[null,null,null,null,158,158]
[null,null,null,null,null,160]
[null,null,160,162,162,162]
[null,null,null,null,null,164]
[null,null,null,null,165,165]
[null,null,null,null,null,167]
[null,null,null,169,169,169]
[null,null,null,null,null,172]
[null,null,null,null,174,174]
[null,null,null,null,null,176]
[null,180,180,178,178,178]
[null,null,null,null,null,180]
[null,null,null,null,182,182]
[null,null,null,null,null,184]
[null,null,null,187,187,187]
[null,null,null,null,null,189]
[null,null,null,null,191,191]
[null,null,null,null,null,193]
[null,null,200,196,196,196]
[null,null,null,null,null,198]
[null,null,null,null,200,200]
[null,null,null,null,null,203]
[null,null,null,205,205,205]
[null,null,null,null,null,208]
[null,null,null,null,210,210]
[null,null,null,null,null,213]
[220,220,220,215,215,215]
[null,null,null,null,null,218]
[null,null,null,null,221,221]
[null,null,null,null,null,223]
[null,null,null,226,226,226]
[null,null,null,null,null,229]
[null,null,null,null,232,232]
[null,null,null,null,null,234]
[null,null,240,237,237,237]
[null,null,null,null,null,240]
[null,null,null,null,243,243]
[null,null,null,null,null,246]
[null,null,null,249,249,249]
[null,null,null,null,null,252]
[null,null,null,null,255,255]
[null,null,null,null,null,258]
[null,270,270,261,261,261]
[null,null,null,null,null,264]
[null,null,null,null,267,267]
[null,null,null,null,null,271]
[null,null,null,274,274,274]
[null,null,null,null,null,277]
[null,null,null,null,280,280]
[null,null,null,null,null,284]
[null,null,300,287,287,287]
[null,null,null,null,null,291]
[null,null,null,null,294,294]
[null,null,null,null,null,298]
[null,null,null,301,301,301]
[null,null,null,null,null,305]
[null,null,null,null,309,309]
[null,null,null,null,null,312]
[330,330,330,316,316,316]
[null,null,null,null,null,320]
[null,null,null,null,324,324]
[null,null,null,null,null,328]
[null,null,null,332,332,332]
[null,null,null,null,null,336]
[null,null,null,null,340,340]
[null,null,null,null,null,344]
[null,null,360,348,348,348]
[null,null,null,null,null,352]
[null,null,null,null,357,357]
[null,null,null,null,null,361]
[null,null,null,365,365,365]
[null,null,null,null,null,370]
[null,null,null,null,374,374]
[null,null,null,null,null,379]
[null,390,390,383,383,383]
[null,null,null,null,null,388]
[null,null,null,null,392,392]
[null,null,null,null,null,397]
[null,null,null,402,402,402]
[null,null,null,null,null,407]
[null,null,null,null,412,412]
[null,null,null,null,null,417]
[null,null,430,422,422,422]
[null,null,null,null,null,427]
[null,null,null,null,432,432]
[null,null,null,null,null,437]
[null,null,null,442,442,442]
[null,null,null,null,null,448]
[null,null,null,null,453,453]
[null,null,null,null,null,459]
[470,470,470,464,464,464]
[null,null,null,null,null,470]
[null,null,null,null,475,475]
[null,null,null,null,null,481]
[null,null,null,487,487,487]
[null,null,null,null,null,493]
[null,null,null,null,499,499]
[null,null,null,null,null,505]
[null,null,510,511,511,511]
[null,null,null,null,null,517]
[null,null,null,null,523,523]
[null,null,null,null,null,530]
[null,null,null,536,536,536]
[null,null,null,null,null,542]
[null,null,null,null,549,549]
[null,null,null,null,null,556]
[null,560,560,562,562,562]
[null,null,null,null,null,569]
[null,null,null,null,576,576]
[null,null,null,null,null,583]
[null,null,null,590,590,590]
[null,null,null,null,null,597]
[null,null,null,null,604,604]
[null,null,null,null,null,612]
[null,null,620,619,619,619]
[null,null,null,null,null,626]
[null,null,null,null,634,634]
[null,null,null,null,null,642]
[null,null,null,649,649,649]
[null,null,null,null,null,657]
[null,null,null,null,665,665]
[null,null,null,null,null,673]
[680,680,680,681,681,681]
[null,null,null,null,null,690]
[null,null,null,null,698,698]
[null,null,null,null,null,706]
[null,null,null,715,715,715]
[null,null,null,null,null,723]
[null,null,null,null,732,732]
[null,null,null,null,null,741]
[null,null,750,750,750,750]
[null,null,null,null,null,759]
[null,null,null,null,768,768]
[null,null,null,null,null,777]
[null,null,null,787,787,787]
[null,null,null,null,null,796]
[null,null,null,null,806,806]
[null,null,null,null,null,816]
[null,820,820,825,825,825]
[null,null,null,null,null,835]
[null,null,null,null,845,845]
[null,null,null,null,null,856]
[null,null,null,866,866,866]
[null,null,null,null,null,876]
[null,null,null,null,887,887]
[null,null,null,null,null,898]
[null,null,910,909,909,909]
[null,null,null,null,null,920]
[null,null,null,null,931,931]
[null,null,null,null,null,942]
[null,null,null,953,953,953]
[null,null,null,null,null,965]
[null,null,null,null,976,976]
[null,null,null,null,null,988]
[1000,1000,1000,1000,1000,1000,"End Values Required for Processing"]

{"sheet":"Cap Tables","index":3,"n_rows":75,"n_cols":4,"rows_kept":75,"cut":false,"hidden":true,"merged":[]}
["Standard Capacitor Values"]
[]
["pF","nF","µF","mF"]
[1,1,1,1]
[1.1000000000000001,1.1000000000000001,1]
[1.2,1.2,1]
[1.3,1.3,1]
[1.5,1.5,1.5,1.5]
[1.6,1.6,1.5]
[1.8,1.8,1.5]
[2,2,1.5]
[2.2000000000000002,2.2000000000000002,2.2000000000000002,2.2000000000000002]
[2.4,2.4,2.2000000000000002]
[2.7,2.7,2.2000000000000002]
[3,3,2.2000000000000002]
[3.3,3.3,3.3,3.3]
[3.6,3.6,{"$f":"C18","v":4.7}]
[3.9,3.9,4.7]
[4.3,4.3,{"$f":"C20","v":4.7}]
[4.7,4.7,4.7,4.7]
[5.0999999999999996,5.0999999999999996,{"$f":"C22","v":6.8}]
[5.6,5.6,6.8]
[6.2,6.2,{"$f":"C24","v":6.8}]
[6.8,6.8,6.8,6.8]
[7.5,7.5,{"$f":"C26","v":10}]
[8.1999999999999993,8.1999999999999993,10]
[9.1,9.1,{"$f":"C28","v":10}]
[10,10,10,10]
[11,{"$f":"B30","v":15},15]
[12,15,15]
[13,{"$f":"B32","v":15},{"$f":"C32","v":15}]
[15,15,15]
[16,{"$f":"B34","v":22},22]
[18,22,22]
[20,{"$f":"B36","v":22},{"$f":"C36","v":22}]
[22,22,22]
[24,{"$f":"B38","v":33},33]
[27,33,33]
[30,{"$f":"B40","v":33},{"$f":"C40","v":33}]
[33,33,33]
[36,{"$f":"B42","v":47},47]
[39,47,47]
[43,{"$f":"B44","v":47},{"$f":"C44","v":47}]
[47,47,47]
[51,{"$f":"B46","v":68},68]
[56,68,68]
[62,{"$f":"B48","v":68},{"$f":"C48","v":68}]
[68,68,68]
[75,{"$f":"B50","v":100},100]
[82,100,100]
[91,{"$f":"B52","v":100},{"$f":"C52","v":100}]
[100,100,100]
[110,{"$f":"B54","v":150},150]
[120,150,150]
[130,{"$f":"B56","v":150},{"$f":"C56","v":150}]
[150,150,150]
[160,{"$f":"B58","v":220},220]
[180,220,220]
[200,{"$f":"B60","v":220},{"$f":"C60","v":220}]
[220,220,220]
[240,{"$f":"B62","v":330},330]
[270,330,330]
[300,{"$f":"B64","v":330},{"$f":"C64","v":330}]
[330,330,330]
[360,{"$f":"B66","v":470},470]
[390,470,470]
[430,{"$f":"B68","v":470},{"$f":"C68","v":470}]
[470,470,470]
[510,{"$f":"B70","v":680},680]
[560,680,680]
[620,{"$f":"B72","v":680},{"$f":"C72","v":680}]
[680,680,680]
[750,{"$f":"B74","v":1000},{"$f":"C74","v":1000}]
[820,{"$f":"B75","v":1000},{"$f":"C75","v":1000}]
[910,1000,1000]

{"sheet":"Nretry","index":4,"n_rows":1024,"n_cols":6,"rows_kept":1024,"cut":false,"hidden":true,"merged":[[4,3,4,4]]}
[0,4]
[1,4]
[2,4]
[3,4]
[4,16,null,"Nretry_quantized =",null,{"$f":"IF('Calculation Sheet'!G90=\"Infinite\", \"Infinite\", VLOOKUP('Calculation Sheet'!G90,A1:B1024,2,TRUE))","v":4}]
[5,16]
[6,16]
[7,16]
[8,16]
[9,16]
[10,16]
[11,16]
[12,16]
[13,16]
[14,16]
[15,16]
[16,64]
[17,64]
[18,64]
[19,64]
[20,64]
[21,64]
[22,64]
[23,64]
[24,64]
[25,64]
[26,64]
[27,64]
[28,64]
[29,64]
[30,64]
[31,64]
[32,64]
[33,64]
[34,64]
[35,64]
[36,64]
[37,64]
[38,64]
[39,64]
[40,64]
[41,64]
[42,64]
[43,64]
[44,64]
[45,64]
[46,64]
[47,64]
[48,64]
[49,64]
[50,64]
[51,64]
[52,64]
[53,64]
[54,64]
[55,64]
[56,64]
[57,64]
[58,64]
[59,64]
[60,64]
[61,64]
[62,64]
[63,64]
[64,256]
[65,256]
[66,256]
[67,256]
[68,256]
[69,256]
[70,256]
[71,256]
[72,256]
[73,256]
[74,256]
[75,256]
[76,256]
[77,256]
[78,256]
[79,256]
[80,256]
[81,256]
[82,256]
[83,256]
[84,256]
[85,256]
[86,256]
[87,256]
[88,256]
[89,256]
[90,256]
[91,256]
[92,256]
[93,256]
[94,256]
[95,256]
[96,256]
[97,256]
[98,256]
[99,256]
[100,256]
[101,256]
[102,256]
[103,256]
[104,256]
[105,256]
[106,256]
[107,256]
[108,256]
[109,256]
[110,256]
[111,256]
[112,256]
[113,256]
[114,256]
[115,256]
[116,256]
[117,256]
[118,256]
[119,256]
[120,256]
[121,256]
[122,256]
[123,256]
[124,256]
[125,256]
[126,256]
[127,256]
[128,256]
[129,256]
[130,256]
[131,256]
[132,256]
[133,256]
[134,256]
[135,256]
[136,256]
[137,256]
[138,256]
[139,256]
[140,256]
[141,256]
[142,256]
[143,256]
[144,256]
[145,256]
[146,256]
[147,256]
[148,256]
[149,256]
[150,256]
[151,256]
[152,256]
[153,256]
[154,256]
[155,256]
[156,256]
[157,256]
[158,256]
[159,256]
[160,256]
[161,256]
[162,256]
[163,256]
[164,256]
[165,256]
[166,256]
[167,256]
[168,256]
[169,256]
[170,256]
[171,256]
[172,256]
[173,256]
[174,256]
[175,256]
[176,256]
[177,256]
[178,256]
[179,256]
[180,256]
[181,256]
[182,256]
[183,256]
[184,256]
[185,256]
[186,256]
[187,256]
[188,256]
[189,256]
[190,256]
[191,256]
[192,256]
[193,256]
[194,256]
[195,256]
[196,256]
[197,256]
[198,256]
[199,256]
[200,256]
[201,256]
[202,256]
[203,256]
[204,256]
[205,256]
[206,256]
[207,256]
[208,256]
[209,256]
[210,256]
[211,256]
[212,256]
[213,256]
[214,256]
[215,256]
[216,256]
[217,256]
[218,256]
[219,256]
[220,256]
[221,256]
[222,256]
[223,256]
[224,256]
[225,256]
[226,256]
[227,256]
[228,256]
[229,256]
[230,256]
[231,256]
[232,256]
[233,256]
[234,256]
[235,256]
[236,256]
[237,256]
[238,256]
[239,256]
[240,256]
[241,256]
[242,256]
[243,256]
[244,256]
[245,256]
[246,256]
[247,256]
[248,256]
[249,256]
[250,256]
[251,256]
[252,256]
[253,256]
[254,256]
[255,1024]
[256,1024]
[257,1024]
[258,1024]
[259,1024]
[260,1024]
[261,1024]
[262,1024]
[263,1024]
[264,1024]
[265,1024]
[266,1024]
[267,1024]
[268,1024]
[269,1024]
[270,1024]
[271,1024]
[272,1024]
[273,1024]
[274,1024]
[275,1024]
[276,1024]
[277,1024]
[278,1024]
[279,1024]
[280,1024]
[281,1024]
[282,1024]
[283,1024]
[284,1024]
[285,1024]
[286,1024]
[287,1024]
[288,1024]
[289,1024]
[290,1024]
[291,1024]
[292,1024]
[293,1024]
[294,1024]
[295,1024]
[296,1024]
[297,1024]
[298,1024]
[299,1024]
[300,1024]
[301,1024]
[302,1024]
[303,1024]
[304,1024]
[305,1024]
[306,1024]
[307,1024]
[308,1024]
[309,1024]
[310,1024]
[311,1024]
[312,1024]
[313,1024]
[314,1024]
[315,1024]
[316,1024]
[317,1024]
[318,1024]
[319,1024]
[320,1024]
[321,1024]
[322,1024]
[323,1024]
[324,1024]
[325,1024]
[326,1024]
[327,1024]
[328,1024]
[329,1024]
[330,1024]
[331,1024]
[332,1024]
[333,1024]
[334,1024]
[335,1024]
[336,1024]
[337,1024]
[338,1024]
[339,1024]
[340,1024]
[341,1024]
[342,1024]
[343,1024]
[344,1024]
[345,1024]
[346,1024]
[347,1024]
[348,1024]
[349,1024]
[350,1024]
[351,1024]
[352,1024]
[353,1024]
[354,1024]
[355,1024]
[356,1024]
[357,1024]
[358,1024]
[359,1024]
[360,1024]
[361,1024]
[362,1024]
[363,1024]
[364,1024]
[365,1024]
[366,1024]
[367,1024]
[368,1024]
[369,1024]
[370,1024]
[371,1024]
[372,1024]
[373,1024]
[374,1024]
[375,1024]
[376,1024]
[377,1024]
[378,1024]
[379,1024]
[380,1024]
[381,1024]
[382,1024]
[383,1024]
[384,1024]
[385,1024]
[386,1024]
[387,1024]
[388,1024]
[389,1024]
[390,1024]
[391,1024]
[392,1024]
[393,1024]
[394,1024]
[395,1024]
[396,1024]
[397,1024]
[398,1024]
[399,1024]
[400,1024]
[401,1024]
[402,1024]
[403,1024]
[404,1024]
[405,1024]
[406,1024]
[407,1024]
[408,1024]
[409,1024]
[410,1024]
[411,1024]
[412,1024]
[413,1024]
[414,1024]
[415,1024]
[416,1024]
[417,1024]
[418,1024]
[419,1024]
[420,1024]
[421,1024]
[422,1024]
[423,1024]
[424,1024]
[425,1024]
[426,1024]
[427,1024]
[428,1024]
[429,1024]
[430,1024]
[431,1024]
[432,1024]
[433,1024]
[434,1024]
[435,1024]
[436,1024]
[437,1024]
[438,1024]
[439,1024]
[440,1024]
[441,1024]
[442,1024]
[443,1024]
[444,1024]
[445,1024]
[446,1024]
[447,1024]
[448,1024]
[449,1024]
[450,1024]
[451,1024]
[452,1024]
[453,1024]
[454,1024]
[455,1024]
[456,1024]
[457,1024]
[458,1024]
[459,1024]
[460,1024]
[461,1024]
[462,1024]
[463,1024]
[464,1024]
[465,1024]
[466,1024]
[467,1024]
[468,1024]
[469,1024]
[470,1024]
[471,1024]
[472,1024]
[473,1024]
[474,1024]
[475,1024]
[476,1024]
[477,1024]
[478,1024]
[479,1024]
[480,1024]
[481,1024]
[482,1024]
[483,1024]
[484,1024]
[485,1024]
[486,1024]
[487,1024]
[488,1024]
[489,1024]
[490,1024]
[491,1024]
[492,1024]
[493,1024]
[494,1024]
[495,1024]
[496,1024]
[497,1024]
[498,1024]
[499,1024]
[500,1024]
[501,1024]
[502,1024]
[503,1024]
[504,1024]
[505,1024]
[506,1024]
[507,1024]
[508,1024]
[509,1024]
[510,1024]
[511,1024]
[512,1024]
[513,1024]
[514,1024]
[515,1024]
[516,1024]
[517,1024]
[518,1024]
[519,1024]
[520,1024]
[521,1024]
[522,1024]
[523,1024]
[524,1024]
[525,1024]
[526,1024]
[527,1024]
[528,1024]
[529,1024]
[530,1024]
[531,1024]
[532,1024]
[533,1024]
[534,1024]
[535,1024]
[536,1024]
[537,1024]
[538,1024]
[539,1024]
[540,1024]
[541,1024]
[542,1024]
[543,1024]
[544,1024]
[545,1024]
[546,1024]
[547,1024]
[548,1024]
[549,1024]
[550,1024]
[551,1024]
[552,1024]
[553,1024]
[554,1024]
[555,1024]
[556,1024]
[557,1024]
[558,1024]
[559,1024]
[560,1024]
[561,1024]
[562,1024]
[563,1024]
[564,1024]
[565,1024]
[566,1024]
[567,1024]
[568,1024]
[569,1024]
[570,1024]
[571,1024]
[572,1024]
[573,1024]
[574,1024]
[575,1024]
[576,1024]
[577,1024]
[578,1024]
[579,1024]
[580,1024]
[581,1024]
[582,1024]
[583,1024]
[584,1024]
[585,1024]
[586,1024]
[587,1024]
[588,1024]
[589,1024]
[590,1024]
[591,1024]
[592,1024]
[593,1024]
[594,1024]
[595,1024]
[596,1024]
[597,1024]
[598,1024]
[599,1024]
[600,1024]
[601,1024]
[602,1024]
[603,1024]
[604,1024]
[605,1024]
[606,1024]
[607,1024]
[608,1024]
[609,1024]
[610,1024]
[611,1024]
[612,1024]
[613,1024]
[614,1024]
[615,1024]
[616,1024]
[617,1024]
[618,1024]
[619,1024]
[620,1024]
[621,1024]
[622,1024]
[623,1024]
[624,1024]
[625,1024]
[626,1024]
[627,1024]
[628,1024]
[629,1024]
[630,1024]
[631,1024]
[632,1024]
[633,1024]
[634,1024]
[635,1024]
[636,1024]
[637,1024]
[638,1024]
[639,1024]
[640,1024]
[641,1024]
[642,1024]
[643,1024]
[644,1024]
[645,1024]
[646,1024]
[647,1024]
[648,1024]
[649,1024]
[650,1024]
[651,1024]
[652,1024]
[653,1024]
[654,1024]
[655,1024]
[656,1024]
[657,1024]
[658,1024]
[659,1024]
[660,1024]
[661,1024]
[662,1024]
[663,1024]
[664,1024]
[665,1024]
[666,1024]
[667,1024]
[668,1024]
[669,1024]
[670,1024]
[671,1024]
[672,1024]
[673,1024]
[674,1024]
[675,1024]
[676,1024]
[677,1024]
[678,1024]
[679,1024]
[680,1024]
[681,1024]
[682,1024]
[683,1024]
[684,1024]
[685,1024]
[686,1024]
[687,1024]
[688,1024]
[689,1024]
[690,1024]
[691,1024]
[692,1024]
[693,1024]
[694,1024]
[695,1024]
[696,1024]
[697,1024]
[698,1024]
[699,1024]
[700,1024]
[701,1024]
[702,1024]
[703,1024]
[704,1024]
[705,1024]
[706,1024]
[707,1024]
[708,1024]
[709,1024]
[710,1024]
[711,1024]
[712,1024]
[713,1024]
[714,1024]
[715,1024]
[716,1024]
[717,1024]
[718,1024]
[719,1024]
[720,1024]
[721,1024]
[722,1024]
[723,1024]
[724,1024]
[725,1024]
[726,1024]
[727,1024]
[728,1024]
[729,1024]
[730,1024]
[731,1024]
[732,1024]
[733,1024]
[734,1024]
[735,1024]
[736,1024]
[737,1024]
[738,1024]
[739,1024]
[740,1024]
[741,1024]
[742,1024]
[743,1024]
[744,1024]
[745,1024]
[746,1024]
[747,1024]
[748,1024]
[749,1024]
[750,1024]
[751,1024]
[752,1024]
[753,1024]
[754,1024]
[755,1024]
[756,1024]
[757,1024]
[758,1024]
[759,1024]
[760,1024]
[761,1024]
[762,1024]
[763,1024]
[764,1024]
[765,1024]
[766,1024]
[767,1024]
[768,1024]
[769,1024]
[770,1024]
[771,1024]
[772,1024]
[773,1024]
[774,1024]
[775,1024]
[776,1024]
[777,1024]
[778,1024]
[779,1024]
[780,1024]
[781,1024]
[782,1024]
[783,1024]
[784,1024]
[785,1024]
[786,1024]
[787,1024]
[788,1024]
[789,1024]
[790,1024]
[791,1024]
[792,1024]
[793,1024]
[794,1024]
[795,1024]
[796,1024]
[797,1024]
[798,1024]
[799,1024]
[800,1024]
[801,1024]
[802,1024]
[803,1024]
[804,1024]
[805,1024]
[806,1024]
[807,1024]
[808,1024]
[809,1024]
[810,1024]
[811,1024]
[812,1024]
[813,1024]
[814,1024]
[815,1024]
[816,1024]
[817,1024]
[818,1024]
[819,1024]
[820,1024]
[821,1024]
[822,1024]
[823,1024]
[824,1024]
[825,1024]
[826,1024]
[827,1024]
[828,1024]
[829,1024]
[830,1024]
[831,1024]
[832,1024]
[833,1024]
[834,1024]
[835,1024]
[836,1024]
[837,1024]
[838,1024]
[839,1024]
[840,1024]
[841,1024]
[842,1024]
[843,1024]
[844,1024]
[845,1024]
[846,1024]
[847,1024]
[848,1024]
[849,1024]
[850,1024]
[851,1024]
[852,1024]
[853,1024]
[854,1024]
[855,1024]
[856,1024]
[857,1024]
[858,1024]
[859,1024]
[860,1024]
[861,1024]
[862,1024]
[863,1024]
[864,1024]
[865,1024]
[866,1024]
[867,1024]
[868,1024]
[869,1024]
[870,1024]
[871,1024]
[872,1024]
[873,1024]
[874,1024]
[875,1024]
[876,1024]
[877,1024]
[878,1024]
[879,1024]
[880,1024]
[881,1024]
[882,1024]
[883,1024]
[884,1024]
[885,1024]
[886,1024]
[887,1024]
[888,1024]
[889,1024]
[890,1024]
[891,1024]
[892,1024]
[893,1024]
[894,1024]
[895,1024]
[896,1024]
[897,1024]
[898,1024]
[899,1024]
[900,1024]
[901,1024]
[902,1024]
[903,1024]
[904,1024]
[905,1024]
[906,1024]
[907,1024]
[908,1024]
[909,1024]
[910,1024]
[911,1024]
[912,1024]
[913,1024]
[914,1024]
[915,1024]
[916,1024]
[917,1024]
[918,1024]
[919,1024]
[920,1024]
[921,1024]
[922,1024]
[923,1024]
[924,1024]
[925,1024]
[926,1024]
[927,1024]
[928,1024]
[929,1024]
[930,1024]
[931,1024]
[932,1024]
[933,1024]
[934,1024]
[935,1024]
[936,1024]
[937,1024]
[938,1024]
[939,1024]
[940,1024]
[941,1024]
[942,1024]
[943,1024]
[944,1024]
[945,1024]
[946,1024]
[947,1024]
[948,1024]
[949,1024]
[950,1024]
[951,1024]
[952,1024]
[953,1024]
[954,1024]
[955,1024]
[956,1024]
[957,1024]
[958,1024]
[959,1024]
[960,1024]
[961,1024]
[962,1024]
[963,1024]
[964,1024]
[965,1024]
[966,1024]
[967,1024]
[968,1024]
[969,1024]
[970,1024]
[971,1024]
[972,1024]
[973,1024]
[974,1024]
[975,1024]
[976,1024]
[977,1024]
[978,1024]
[979,1024]
[980,1024]
[981,1024]
[982,1024]
[983,1024]
[984,1024]
[985,1024]
[986,1024]
[987,1024]
[988,1024]
[989,1024]
[990,1024]
[991,1024]
[992,1024]
[993,1024]
[994,1024]
[995,1024]
[996,1024]
[997,1024]
[998,1024]
[999,1024]
[1000,1024]
[1001,1024]
[1002,1024]
[1003,1024]
[1004,1024]
[1005,1024]
[1006,1024]
[1007,1024]
[1008,1024]
[1009,1024]
[1010,1024]
[1011,1024]
[1012,1024]
[1013,1024]
[1014,1024]
[1015,1024]
[1016,1024]
[1017,1024]
[1018,1024]
[1019,1024]
[1020,1024]
[1021,1024]
[1022,1024]
[1023,1024]