{"text_format":"1","workbook":"xlsx","n_sheets":6,"sheets":["Instructions","Typical_App_Circuit","Calculation Sheet","Thermal Shutdown Limit Plot","Res EIA Tables","Cap Tables"],"not_rendered":{"charts":3,"images":1,"macros":1,"external_links":0,"defined_names":40,"comments":0,"pivot_tables":0},"unopened":[],"bounds":{"document_bytes":16777216,"sheet_cells":100000,"rows_first":2000,"rows_last":500,"rows_between":2000,"halvings":0,"cell_chars":16384,"cell_head_chars":4096},"cells_cut":0,"cells_raw":0,"read":"whole","date_system":"1900"}

{"sheet":"Instructions","index":0,"n_rows":2,"n_cols":1,"rows_kept":2,"cut":false,"hidden":false,"merged":[[0,0,0,20],[1,0,64,20]]}
["Instructions for using the LM76202-Q1/LM74202-Q1 Design Calculator"]
["Design Inputs\n• Enter the design inputs for operating input voltage, under voltage, overvoltage set points, output capacitance, ambient temperature, load at start-up, maximum continuous load current, and permissible inrush current at start up for charging output capacitance in cells D5 to D14 in Calculation Sheet.\n• Select the current limit for device (ILimit) at-least 5% more than (Imax + IINRUSH_Permissible) in Cell D15 in Calculation Sheet.\nUVLO, OVP Calculations \n• If operation up-to 4.1V is required, connect UVLO to VIN and enter Y in Cell D18.\n• Enter the value of resistor (R3) between UVLO and OVP pins in Cell D19 in Calculation Sheet\n• Design Calculator provides the calculated value of R2 and R1\n• Select the value of R1, R2 and R3 resistors in cells D23 to D25 close to the calculated values.\n• Design calculator provides the final under voltage, overvoltage and power fail set points based on selected values of R1 to R3.\n• Verify the value of current through resistors R1 to R3. If Current < 2uA, the cell turns RED and value of R3 needs to be reduced.\n\nCurrent Limit Calculations\n• Design Calculator provides the calculated value of resistor for ILIM from Imax and IINRUSH_permissible current provided. \n• Select the value of resistor for ILIM close to the calculated value.\n• Design Calculator provides the value of ILIM based on selected value.\ndVdT resistor and Output ramp time Calculations\n• Design Calculator provides the  Tdvdt with permissible inrush current .\n• Design Calculator provides calculated value of  Cdvdt for permissible inrush current in Cell D42\n• Verify that sum of final inrush current and load current during startup is less than final ILimit. If sum of final inrush current and load current during startup is more than ILimit, Cell D48 turns RED.  Increase the value of RLstart or reduce IINRUSH_permissible to reduce start-up current. \nPower Dissipation and thermal regulation at start up.\n• Design calculator provides the calculated values of power dissipation at start-up \n• Design calculator checks the power dissipated with thermal shutdown limit data in the adjacent sheet.\n• If the device goes in to thermal shutdown at startup,  Increase the value of RLstart or reduce the value of IINRUSH_permissible \n\nCalculations for Current Monitor output\n• Enter the value for maximum IMON pin voltage based on input range of the ADC connected on IMON pin\n• Design calculator provides the calculated value of resistor for IMON pin\n• Select the value of resistor on IMON pin in cell D63 close to calculated value.\n• Verify that value of voltage is less than 4V. if value is more than 4V, Cell D64 turns RED . Reduce the resistor value in Cell D63.\n\nInternal FET parameters and References\n• Do not change the values and parameters in Internal FET parameters and References.\n"]

{"sheet":"Typical_App_Circuit","index":1,"n_rows":0,"n_cols":0,"rows_kept":0,"cut":false,"hidden":false,"merged":[]}

{"sheet":"Calculation Sheet","index":2,"n_rows":84,"n_cols":14,"rows_kept":84,"cut":false,"hidden":false,"merged":[[1,4,1,5]]}
[null,"LM76202-Q1 and LM74202-Q1 Design Calculator Tool"]
[null,"Constants Cells","Input / Select Cells","Calculation Cells","Verification Cells"]
[null,null,"Calculated, but can be over-ridden by the user. \nNote: Once cells are over-ridden, new calculation sheet should be used for the next design"]
[null,"Design Inputs","Description","Value "," Units","Tolerance"]
[null,"VIN (min)","Minimum Operating Input Voltage",4.0999999999999996,"V"]
[null,"VIN (max)","Maximum Operating Input Voltage (60Vmax for LM76202-Q1, 40Vmax for LM74202-Q1) ",14,"V"]
[null,"VIN (nom)","Nominal operating Input voltage",12,"V"]
[null,"UVset","Undervoltage Lockout Set point",4.0999999999999996,"V"]
[null,"OVset","Over Voltage Cut-Off Set point",14.1,"V"]
[null,"Cout","Load Capacitance",6000,"µF",0.1]
[null,"TA (max)","Maximum Ambient Temperature ","TA = 105C","°C"]
[null,"RLstart","Load during start-up (Assumed to be resistive)",100000,"Ω"]
[null,"Imax","Maximum continuous load current",1,"A"]
[null,"IINRUSH_permissible","Permissible inrush current from power supply or system for charging Cout on Start-up",0.1,"A"]
[null,"ILimit","Current Limit, 5% higher than [Imax + IINRUSH_permissible ]",{"$f":"G15","v":1.1550000000000002},"A",null,{"$f":"1.05*(D13+D14)","v":1.1550000000000002}]
[]
[null,"UVLO, OVP Calculations"]
[null,"Is UVLO connected to IN for operation up-to VIN of 4.1V?","Enter Y or N","Y"]
[null,"R3_sel","Select a value of resistor between OVP and GND pins",4.4000000000000004,"kΩ",0.01,null,null,null,null,null,null,{"$f":"IF(N19>976,976,IF(N19<100, 100, N19))","v":440.00000000000006},{"$f":"IF(D19<=9.88, D19*100, IF(AND(D19>9.88, D19<=98.8),D19*10,IF(AND(D19>98.8, D19<=988), D19, IF(AND(D19>988, D19<=9880), D19/10, IF(AND(D19>9880, D19<=98800), D19/100)))))","v":440.00000000000006}]
[null,"R2_cal","Calculated value of Resistor between UVLO and OVP pins",{"$f":"IF(D18=\"N\", D19*((UVLOref*OVset/(UVset*OVPref))-1), (OVset/OVPref - 1)*ROVP)","v":46.866554621848742},"kΩ",null,null,null,null,{"$f":"D28","v":3.8},"Power Fail \n(VIN Falling)",null,{"$f":"IF(N20>976,976,IF(N20<100, 100, N20))","v":468.66554621848741},{"$f":"IF(D20<=9.88, D20*100, IF(AND(D20>9.88, D20<=98.8),D20*10,IF(AND(D20>98.8, D20<=988), D20, IF(AND(D20>988, D20<=9880), D20/10, IF(AND(D20>9880, D20<=98800), D20/100)))))","v":468.66554621848741}]
[null,"R1_cal","Calculated value of Resistor between UVLO and VIN pins",{"$f":"IF(D18=\"N\", D19*(OVset/OVPref)*(1-(UVLOref/UVset)), 0)","v":0},"kΩ",null,null,null,null,{"$f":"D26","v":4.0999999999999996},"UVLO \n(VIN Rising)",null,{"$f":"IF(N21>976,976,IF(N21<100, 100, N21))","v":100},{"$f":"IF(D21<=9.88, D21*100, IF(AND(D21>9.88, D21<=98.8),D21*10,IF(AND(D21>98.8, D21<=988), D21, IF(AND(D21>988, D21<=9880), D21/10, IF(AND(D21>9880, D21<=98800), D21/100)))))","v":0}]
[null,"SELECT THE CLOSEST POSSIBLE RESISTANCE VALUE FOR R1, R2, R3",null,null,null,null,null,null,null,{"$f":"D27","v":14.27449074074074},"OVP\n(VIN Rising)"]
[null,"R3_sel","Selected closest possible value for R3 resistor",{"$f":"G23","v":4.32},"kΩ",{"$f":"F19","v":0.01},{"$f":"M23/POWER(10,ROUND(LOG10(M19/D19),1))","v":4.32},null,null,null,null,null,{"$f":"INDEX('Res EIA Tables'!E$5:E$196,MATCH(M19,'Res EIA Tables'!E$5:E$196))","v":432},{"$f":"POWER(10,ROUND(LOG10(M19/D19),1))","v":100}]
[null,"R2_sel","Selected closest possible value for R2 resistor",{"$f":"G24","v":47.5},"kΩ",{"$f":"F19","v":0.01},{"$f":"M24/POWER(10,ROUND(LOG10(M20/D20),1))","v":47.5},null,null,null,null,null,{"$f":"INDEX('Res EIA Tables'!E$5:E$196,2+MATCH(M20,'Res EIA Tables'!E$5:E$196))","v":475},{"$f":"POWER(10,ROUND(LOG10(M20/D20),1))","v":10}]
[null,"R1_sel","Selected closest possible value for R1 resistor",{"$f":"G25","v":0},"kΩ",{"$f":"F19","v":0.01},{"$f":"IF(D18=\"N\",M25/POWER(10,ROUND(LOG10(M21/D21),1)), 0)","v":0},null,null,null,null,null,{"$f":"INDEX('Res EIA Tables'!E$5:E$196,MATCH(M21,'Res EIA Tables'!E$5:E$196))","v":100},{"$f":"POWER(10,ROUND(LOG10(M21/D21),1))","v":{"$error":"#DIV/0!"}}]
[null,"UV_Final",{"$f":"C8","v":"Undervoltage Lockout Set point"},{"$f":"IF(D18=\"N\", UVLOref*((ROVP+RUVLO+RIN)/(ROVP+RUVLO)), 4.1)","v":4.0999999999999996},"V",{"$f":"SQRT(F78^2+F23^2+F24^2+F25^2)","v":2.6457513110645908E-2}]
[null,"OV_Final",{"$f":"C9","v":"Over Voltage Cut-Off Set point"},{"$f":"OVPref*((ROVP+RUVLO+RIN)/ROVP)","v":14.27449074074074},"V",{"$f":"SQRT(F80^2+F23^2+F24^2+F25^2)","v":2.6457513110645908E-2}]
[null,"Power Fail Detection","Power Fail Detection Set Point",{"$f":"IF(D18=\"N\", (UVLOref-UVLOhys)*((ROVP+RUVLO+RIN)/(ROVP+RUVLO)), 3.8)","v":3.8},"V",{"$f":"F26","v":2.6457513110645908E-2}]
[null,"I_R123","Verify minimum Current in R1, R2, R3 Branch at Input voltage of Uvset [> 2uA]",{"$f":"UVset*1000/(ROVP+RUVLO+RIN)","v":79.12003087610961},"uA"]
[]
[null,"Current Limit Calculations"]
[null,"RLIM_cal","Calculated current limit resistor value",{"$f":"MAX((12/(Ilimit)),5.36)","v":10.389610389610388},"kΩ",0.01,null,null,null,{"$f":"Icharge","v":0.10071428571428571},"Inrush Charging \nCurrent",null,{"$f":"IF(D32<10, D32*100, IF(AND(D32>=10, D32<100),D32*10,IF(AND(D32>=100, D32<1000), D32, IF(D32>=1000, D32/10))))","v":103.89610389610388}]
[null,"SELECT THE CLOSEST POSSIBLE RESISTANCE VALUE FOR RLIM",null,null,null,null,null,null,null,{"$f":"Ilimit_final","v":1.1764705882352942},"Overload Current\nLimit"]
[null,"RLIM","Selected closest possible value for RLIM resistor",{"$f":"G34","v":10.199999999999999},"kΩ",{"$f":"F32","v":0.01},{"$f":"M34*D32/M32","v":10.199999999999999},null,null,{"$f":"#REF!","v":{"$error":"#REF!"}},"Fastrip Current\nLimit",null,{"$f":"INDEX('Res EIA Tables'!E$5:E$196,MATCH(M32,'Res EIA Tables'!E$5:E$196))","v":102}]
[null,"ILimit_Final","Final Current Limit Set Point",{"$f":"12/Rilim","v":1.1764705882352942},"A",{"$f":"SQRT(M35^2+F34^2)","v":5.0990195135927854E-2},null,null,null,null,null,null,{"$f":"IF(Imax<0.3, 0.12,0.05)","v":0.05}]
[]
[]
[null,"dV/dT Capacitor and Output ramp Time(Tdvdt) Calculation"]
[null,"Tdvdt_default","Default Tdvdt with no external capacitor connected at dVdT pin",{"$f":"0.5*Vinmax/24","v":0.29166666666666669},"ms"]
[null,"Tdvdt_with_IINRUSH_permissible","Tdvdt with IINRUSH_permissible",{"$f":"(Cout*10^-3*VINnom)/(INRUSH)","v":720},"ms"]
[null,"Tdvdt required","Enter Tdvdt if lower Tdvdt than the Tdvdt with IINRUSH_premissible is required  ",15,"ms"]
[null,"Cdvdt_for_permissible_IINRUSH","Calculated dVdT capacitor value based on permissible Inrush current",{"$f":"MAX(((I_dvdt*Gain_dvdt*Cout*10^-6)/INRUSH),0.01)","v":6.9456600000000002},"µF",{"$f":"M42","v":0.1},null,null,null,null,null,null,{"$f":"IF(Cdvdt_cal1<=0.1,0.05,0.1)","v":0.1}]
[null,"Cdvdt_for_required_Tdvdt","Calculated dVdT capacitor value based on required Tdvdt",{"$f":"MAX(((Tdvdt_req*10^-3*Gain_dvdt*I_dvdt)/OVset),0.022)","v":0.12315},"µF",0.05,null,null,null,null,null,null,{"$f":"IF(Cdvdt_cal2<=0.1,0.05,0.1)","v":0.1}]
[null,"SELECT Cdvdt either for required Tdvdt or for Permissible IINRUSH"]
[null,"Cdvdt","Enter Selected value for CdV/dT capacitor",{"$f":"D42","v":6.9456600000000002},"µF",{"$f":"F42","v":0.1}]
[null,"Tdvdt_Final","Final Output Voltage ramp time (Tdvdt) ",{"$f":"((Cdvdt*10^3*Vinmax)/(I_dvdt*Gain_dvdt))","v":840},"ms",{"$f":"SQRT(F81^2+F45^2+F82^2)","v":0.12247448713915891}]
[null,"IINRUSH_Final","Final Inrush current for charging Cout",{"$f":"(Cout*10^-6*OVset)/(Tdvdt*10^-3)","v":0.10071428571428571},"A"]
[null,"IINRUSH_Final + ILoad_startup","Is IINRUSH_Final + ILoad_startup less than ILimit_Final?",{"$f":"(Cout*10^-6*OVset)/(Tdvdt*10^-3)+OVset/RLstart","v":0.10085528571428572},"A"]
[]
[null,"Total Power dissipation at Start-up and Thermal Regulation"]
[null,"Pd_dvdt","Power dissipation due to output capacitance at start-up ",{"$f":"0.5*Vinmax*Icharge","v":0.70499999999999996},"W"]
[null,"Pd_Rlstart","Power dissipation due to load resistance during start-up",{"$f":"(1/6)*(Vinmax^2)/RLstart","v":3.2666666666666662E-4},"W"]
[null,"Pd_startup","Total power dissipation during start-up",{"$f":"D51+D52","v":0.70532666666666666},"W"]
[null,null,"Maximum power dissipation allowed before thermal regulation",{"$f":"INDEX('Thermal Shutdown Limit Plot'!A3:A26,IF(Ta=\"TA = 25C\", (MATCH(Tdvdt,'Thermal Shutdown Limit Plot'!C3:C26,-1)), IF(Ta=\"TA = 85C\", (MATCH(Tdvdt, 'Thermal Shutdown Limit Plot'!D3:D26,-1)), IF(Ta=\"TA = 125C\", (MATCH(Tdvdt,'Thermal Shutdown Limit Plot'!F3:F26,-1)),IF(Ta=\"TA = 105C\", (MATCH(Tdvdt,'Thermal Shutdown Limit Plot'!E3:E26,-1)),IF(Ta=\"TA = -40C\", (MATCH(Tdvdt,'Thermal Shutdown Limit Plot'!B3:B26,-1)),0))))))","v":3},"W"]
[null,null,"Will Device go into thermal shutdown at start-up?",{"$f":"IF(D53*1.5<D54,\"NO\",\"YES\")","v":"NO"}]
[]
[]
[]
[null,"Calculations for CURRENT MONITOR"]
[null,"VMON_Max","Maximum allowable voltage at IMON for Maximum Load Current (Max ADC input voltage for IMON)",4,"V"]
[null,"RIMON_cal","Calculated IMON resistor value",{"$f":"MIN((D60*1000)/(Ilimit*Gain_IMON), (MIN(4,UVset-1.5)*1000/(Gain_IMON*Ilimit_final*1.1)))","v":25.665443396664646},"kΩ",0.01,null,null,null,null,null,null,{"$f":"IF(D61<10, D61*100, IF(AND(D61>=10, D61<100),D61*10,IF(AND(D61>=100, D61<1000), D61, IF(D61>=1000, D61/10))))","v":256.65443396664648}]
[null,"SELECT THE CLOSEST POSSIBLE RESISTANCE VALUE FOR RIMON"]
[null,"RIMON_sel","Selected closest possible value for IMON resistor",{"$f":"G63","v":26.099999999999998},"kΩ",{"$f":"F61","v":0.01},{"$f":"M63*D61/M61","v":26.099999999999998},null,null,null,null,null,{"$f":"INDEX('Res EIA Tables'!E$5:E$196,2+MATCH(M61,'Res EIA Tables'!E$5:E$196))","v":261}]
[null,"VMON_Max","Verify Voltage at IMON for Maximum Load Current",{"$f":"(Ilimit_final*Gain_IMON*RIMON_sel*0.001)","v":2.4036564705882353},"V",{"$f":"SQRT(M35^2+F84^2+F63^2)","v":9.4868329805051388E-2}]
[]
[null,"Steady state Voltage drop & Power dissipation"]
[null,"Parameter","Description","Value "," Units","Tolerance"]
[null,"Vdrop","Maximum voltage drop across the device at TA = 25°C",{"$f":"Imax*Rdson_25deg","v":150},"mV"]
[null,"Pdiss_ss","Steady state power dissipation with maximum current  at TA = 25°C",{"$f":"Imax^2*Rdson_25deg","v":150},"mW"]
[]
[null,"Internal FET Parameters"]
[null,"Parameter","Description","Value "," Units","Tolerance"]
[null,"Rds(on)","FET maximum Rds(on) at 25°C",150,"mΩ"]
[null,"Rds(on)_85degC","FET maximum Rds(on) at 85°C",220,"mΩ"]
[null,"Rds(on)_125degC","FET maximum Rds(on) at 125°C",260,"mΩ"]
[]
[null,"Internal References"]
[null,"V(UVLOR)","UVLO Threshold Voltage, Rising",1.19,"V",0.02]
[null,"V(UVLOHys)","UVLO Hysteresis",0.09,"V"]
[null,"V(OVPR)","Over-Voltage Threshold Voltage, Rising",1.19,"V",0.02]
[null,"I(dVdT)","dVdT Charging Current",4.7,"uA",0.05]
[null,"GAIN(dVdT)","dVdT to OUT Gain",24.63,null,0.05]
[null,"TdVdT","Default Start-up Time with dVdT = Open",1.6,"ms"]
[null,"Imon_Gain","Gain Factor I(IMON):I(OUT)",78.28,"uA/A",0.08]

{"sheet":"Thermal Shutdown Limit Plot","index":3,"n_rows":35,"n_cols":10,"rows_kept":35,"cut":false,"hidden":false,"merged":[]}
["Thermal Shutdown Time (ms) Vs. Power Dissipation (W)",null,null,null,null,null,null,"Title of Graph",null,"Thermal Shutdown Time Vs. Power Dissipation"]
["Power Dissipation (W)","TA = -40C","TA = 25C","TA = 85C","TA = 105C","TA = 125C"]
[1,100000,100000,100000,100000,100000,null,"Lable","X-Axis "," Power Dissipation (W)"]
[2,100000,100000,100000,100000,1760,null,null,"Y-Axis","Thermal Shutdown time (ms)"]
[3,100000,100000,100000,2641,325]
[4,100000,100000,3092,762.94600000000003,102.417]
[5,100000,100000,1551,315.30500000000001,42.578000000000003]
[6,100000,13880,711.16200000000003,153.28,21.404]
[7,100000,3038,372.84199999999998,84.234999999999999,12.428000000000001]
[8,100000,1542,217.49100000000001,62.831000000000003,8.0549999999999997]
[9,100000,916,136.93899999999999,39.930999999999997,5.7539999999999996]
[10,8670,593.78599999999994,91.83,27.042999999999999,4.407]
[12,2420,346.6,45.109000000000002,14.085000000000001,3.5209999999999999]
[14,1194,193.786,25.085999999999999,8.5619999999999994,2.621]
[16,692.75,118.75700000000001,15.65,5.8689999999999998,2.0699999999999998]
[18,438.435,78.021000000000001,10.644,4.4589999999999996,1.72]
[20,292.29000000000002,53.625,7.5949999999999998,3.51,1.4650000000000001]
[25,127.158,24.856000000000002,4.2350000000000003,2.2999999999999998,1.077]
[30,65.361999999999995,13.808999999999999,2.8879999999999999,1.7330000000000001,0.85385500000000003]
[35,37.399000000000001,8.6539999999999999,2.169,1.383,0.70655900000000005]
[40,22.727,5.9610000000000003,1.738,1.151,0.60758999999999996]
[50,10.069000000000001,3.4289999999999998,1.266,0.85614999999999997,0.47525899999999999]
[60,6.306,2.5640000000000001,1.0029999999999999,0.71806999999999999,0.40500000000000003]
[75,3.4409999999999998,1.7350000000000001,0.759494,0.56157000000000001,0.32220900000000002]
[100,2.0539999999999998,1.171,0.54833100000000001,0.42399999999999999,0.24741099999999999]
[]
[]
[]
[]
[]
[]
[]
[null,null,"Pd (W)","Tstart-up (ms)"]
[null,"Maximum Point",{"$f":"'Calculation Sheet'!D54","v":3},{"$f":"Tdvdt","v":840}]
[null,"Operating Point",{"$f":"'Calculation Sheet'!D53","v":0.70532666666666666},{"$f":"D34","v":840}]

{"sheet":"Res EIA Tables","index":4,"n_rows":196,"n_cols":6,"rows_kept":196,"cut":false,"hidden":false,"merged":[[176,4,177,4],[188,3,191,3],[188,4,189,4],[190,4,191,4],[192,3,195,3],[192,4,193,4],[194,4,195,4],[178,4,179,4],[180,1,195,1],[180,2,187,2],[180,3,183,3],[180,4,181,4],[182,4,183,4],[184,3,187,3],[184,4,185,4],[186,4,187,4],[188,2,195,2],[164,0,195,0],[164,1,179,1],[164,2,171,2],[164,3,167,3],[164,4,165,4],[148,1,163,1],[148,2,155,2],[148,3,151,3],[148,4,149,4],[150,4,151,4],[152,3,155,3],[152,4,153,4],[154,4,155,4],[156,2,163,2],[156,3,159,3],[166,4,167,4],[168,3,171,3],[168,4,169,4],[170,4,171,4],[172,2,179,2],[172,3,175,3],[172,4,173,4],[174,4,175,4],[176,3,179,3],[140,3,143,3],[140,4,141,4],[142,4,143,4],[144,3,147,3],[144,4,145,4],[146,4,147,4],[132,0,163,0],[132,1,147,1],[132,2,139,2],[132,3,135,3],[132,4,133,4],[134,4,135,4],[136,3,139,3],[136,4,137,4],[138,4,139,4],[140,2,147,2],[156,4,157,4],[158,4,159,4],[160,3,163,3],[160,4,161,4],[162,4,163,4],[112,4,113,4],[124,3,127,3],[124,4,125,4],[126,4,127,4],[128,3,131,3],[128,4,129,4],[130,4,131,4],[114,4,115,4],[116,1,131,1],[116,2,123,2],[116,3,119,3],[116,4,117,4],[118,4,119,4],[120,3,123,3],[120,4,121,4],[122,4,123,4],[124,2,131,2],[100,0,131,0],[100,1,115,1],[100,2,107,2],[100,3,103,3],[100,4,101,4],[84,1,99,1],[84,2,91,2],[84,3,87,3],[84,4,85,4],[86,4,87,4],[88,3,91,3],[88,4,89,4],[90,4,91,4],[92,2,99,2],[92,3,95,3],[102,4,103,4],[104,3,107,3],[104,4,105,4],[106,4,107,4],[108,2,115,2],[108,3,111,3],[108,4,109,4],[110,4,111,4],[112,3,115,3],[76,3,79,3],[76,4,77,4],[78,4,79,4],[80,3,83,3],[80,4,81,4],[82,4,83,4],[68,0,99,0],[68,1,83,1],[68,2,75,2],[68,3,71,3],[68,4,69,4],[70,4,71,4],[72,3,75,3],[72,4,73,4],[74,4,75,4],[76,2,83,2],[92,4,93,4],[94,4,95,4],[96,3,99,3],[96,4,97,4],[98,4,99,4],[48,4,49,4],[60,3,63,3],[60,4,61,4],[62,4,63,4],[64,3,67,3],[64,4,65,4],[66,4,67,4],[50,4,51,4],[52,1,67,1],[52,2,59,2],[52,3,55,3],[52,4,53,4],[54,4,55,4],[56,3,59,3],[56,4,57,4],[58,4,59,4],[60,2,67,2],[36,0,67,0],[36,1,51,1],[36,2,43,2],[36,3,39,3],[36,4,37,4],[20,1,35,1],[20,2,27,2],[20,3,23,3],[20,4,21,4],[22,4,23,4],[24,3,27,3],[24,4,25,4],[26,4,27,4],[28,2,35,2],[28,3,31,3],[38,4,39,4],[40,3,43,3],[40,4,41,4],[42,4,43,4],[44,2,51,2],[44,3,47,3],[44,4,45,4],[46,4,47,4],[48,3,51,3],[12,2,19,2],[12,3,15,3],[12,4,13,4],[14,4,15,4],[16,3,19,3],[16,4,17,4],[18,4,19,4],[0,0,0,5],[4,0,35,0],[4,1,19,1],[4,2,11,2],[4,3,7,3],[4,4,5,4],[6,4,7,4],[8,3,11,3],[8,4,9,4],[10,4,11,4],[28,4,29,4],[30,4,31,4],[32,3,35,3],[32,4,33,4],[34,4,35,4]]}
["Standard EIA Decade Resistor Values"]
[]
[0.2,0.1,0.05,0.02,0.01,"0.5%, 0.25%, 0.1%"]
["E6","E12","E24","E48","E96","E192"]
[100,100,100,100,100,100]
[null,null,null,null,null,101]
[null,null,null,null,102,102]
[null,null,null,null,null,104]
[null,null,null,105,105,105]
[null,null,null,null,null,106]
[null,null,null,null,107,107]
[null,null,null,null,null,109]
[null,null,110,110,110,110]
[null,null,null,null,null,111]
[null,null,null,null,113,113]
[null,null,null,null,null,114]
[null,null,null,115,115,115]
[null,null,null,null,null,117]
[null,null,null,null,118,118]
[null,null,null,null,null,120]
[null,120,120,121,121,121]
[null,null,null,null,null,123]
[null,null,null,null,124,124]
[null,null,null,null,null,126]
[null,null,null,127,127,127]
[null,null,null,null,null,129]
[null,null,null,null,130,130]
[null,null,null,null,null,132]
[null,null,130,133,133,133]
[null,null,null,null,null,135]
[null,null,null,null,137,137]
[null,null,null,null,null,138]
[null,null,null,140,140,140]
[null,null,null,null,null,142]
[null,null,null,null,143,143]
[null,null,null,null,null,145]
[150,150,150,147,147,147]
[null,null,null,null,null,149]
[null,null,null,null,150,150]
[null,null,null,null,null,152]
[null,null,null,154,154,154]
[null,null,null,null,null,156]
[null,null,null,null,158,158]
[null,null,null,null,null,160]
[null,null,160,162,162,162]
[null,null,null,null,null,164]
[null,null,null,null,165,165]
[null,null,null,null,null,167]
[null,null,null,169,169,169]
[null,null,null,null,null,172]
[null,null,null,null,174,174]
[null,null,null,null,null,176]
[null,180,180,178,178,178]
[null,null,null,null,null,180]
[null,null,null,null,182,182]
[null,null,null,null,null,184]
[null,null,null,187,187,187]
[null,null,null,null,null,189]
[null,null,null,null,191,191]
[null,null,null,null,null,193]
[null,null,200,196,196,196]
[null,null,null,null,null,198]
[null,null,null,null,200,200]
[null,null,null,null,null,203]
[null,null,null,205,205,205]
[null,null,null,null,null,208]
[null,null,null,null,210,210]
[null,null,null,null,null,213]
[220,220,220,215,215,215]
[null,null,null,null,null,218]
[null,null,null,null,221,221]
[null,null,null,null,null,223]
[null,null,null,226,226,226]
[null,null,null,null,null,229]
[null,null,null,null,232,232]
[null,null,null,null,null,234]
[null,null,240,237,237,237]
[null,null,null,null,null,240]
[null,null,null,null,243,243]
[null,null,null,null,null,246]
[null,null,null,249,249,249]
[null,null,null,null,null,252]
[null,null,null,null,255,255]
[null,null,null,null,null,258]
[null,270,270,261,261,261]
[null,null,null,null,null,264]
[null,null,null,null,267,267]
[null,null,null,null,null,271]
[null,null,null,274,274,274]
[null,null,null,null,null,277]
[null,null,null,null,280,280]
[null,null,null,null,null,284]
[null,null,300,287,287,287]
[null,null,null,null,null,291]
[null,null,null,null,294,294]
[null,null,null,null,null,298]
[null,null,null,301,301,301]
[null,null,null,null,null,305]
[null,null,null,null,309,309]
[null,null,null,null,null,312]
[330,330,330,316,316,316]
[null,null,null,null,null,320]
[null,null,null,null,324,324]
[null,null,null,null,null,328]
[null,null,null,332,332,332]
[null,null,null,null,null,336]
[null,null,null,null,340,340]
[null,null,null,null,null,344]
[null,null,360,348,348,348]
[null,null,null,null,null,352]
[null,null,null,null,357,357]
[null,null,null,null,null,361]
[null,null,null,365,365,365]
[null,null,null,null,null,370]
[null,null,null,null,374,374]
[null,null,null,null,null,379]
[null,390,390,383,383,383]
[null,null,null,null,null,388]
[null,null,null,null,392,392]
[null,null,null,null,null,397]
[null,null,null,402,402,402]
[null,null,null,null,null,407]
[null,null,null,null,412,412]
[null,null,null,null,null,417]
[null,null,430,422,422,422]
[null,null,null,null,null,427]
[null,null,null,null,432,432]
[null,null,null,null,null,437]
[null,null,null,442,442,442]
[null,null,null,null,null,448]
[null,null,null,null,453,453]
[null,null,null,null,null,459]
[470,470,470,464,464,464]
[null,null,null,null,null,470]
[null,null,null,null,475,475]
[null,null,null,null,null,481]
[null,null,null,487,487,487]
[null,null,null,null,null,493]
[null,null,null,null,499,499]
[null,null,null,null,null,505]
[null,null,510,511,511,511]
[null,null,null,null,null,517]
[null,null,null,null,523,523]
[null,null,null,null,null,530]
[null,null,null,536,536,536]
[null,null,null,null,null,542]
[null,null,null,null,549,549]
[null,null,null,null,null,556]
[null,560,560,562,562,562]
[null,null,null,null,null,569]
[null,null,null,null,576,576]
[null,null,null,null,null,583]
[null,null,null,590,590,590]
[null,null,null,null,null,597]
[null,null,null,null,604,604]
[null,null,null,null,null,612]
[null,null,620,619,619,619]
[null,null,null,null,null,626]
[null,null,null,null,634,634]
[null,null,null,null,null,642]
[null,null,null,649,649,649]
[null,null,null,null,null,657]
[null,null,null,null,665,665]
[null,null,null,null,null,673]
[680,680,680,681,681,681]
[null,null,null,null,null,690]
[null,null,null,null,698,698]
[null,null,null,null,null,706]
[null,null,null,715,715,715]
[null,null,null,null,null,723]
[null,null,null,null,732,732]
[null,null,null,null,null,741]
[null,null,750,750,750,750]
[null,null,null,null,null,759]
[null,null,null,null,768,768]
[null,null,null,null,null,777]
[null,null,null,787,787,787]
[null,null,null,null,null,796]
[null,null,null,null,806,806]
[null,null,null,null,null,816]
[null,820,820,825,825,825]
[null,null,null,null,null,835]
[null,null,null,null,845,845]
[null,null,null,null,null,856]
[null,null,null,866,866,866]
[null,null,null,null,null,876]
[null,null,null,null,887,887]
[null,null,null,null,null,898]
[null,null,910,909,909,909]
[null,null,null,null,null,920]
[null,null,null,null,931,931]
[null,null,null,null,null,942]
[null,null,null,953,953,953]
[null,null,null,null,null,965]
[null,null,null,null,976,976]
[null,null,null,null,null,988]

{"sheet":"Cap Tables","index":5,"n_rows":27,"n_cols":1,"rows_kept":27,"cut":false,"hidden":false,"merged":[]}
["Capacitors Lookup Table"]
["µF"]
[0.01]
[1.4999999999999999E-2]
[2.1999999999999999E-2]
[3.3000000000000002E-2]
[4.7E-2]
[6.8000000000000005E-2]
[0.1]
[0.15]
[0.22]
[0.33]
[0.47]
[0.68]
[1]
[1.5]
[2.2000000000000002]
[3.3]
[4.7]
[6.8]
[10]
[15]
[22]
[33]
[47]
[68]
[100]